{"text_format":"1","workbook":"xlsx","n_sheets":26,"sheets":["INICIO","INICIO (4)","INICIO (3)","INICIO (2)","Planilha1","Planilha1 (2)","Planilha1 (4)","Planilha1 (5)","Planilha1 (20)","Planilha1 (6)","Planilha1 (16)","Planilha1 (7)","Planilha1 (14)","Planilha1 (15)","Planilha1 (8)","Planilha1 (9)","Planilha1 (10)","Planilha1 (17)","Planilha1 (19)","Planilha1 (11)","Planilha1 (12)","Planilha1 (18)","Planilha1 (13)","Planilha1 (21)","Planilha1 (22)","Planilha2"],"not_rendered":{"charts":0,"images":4,"macros":1,"external_links":0,"defined_names":0,"comments":7,"pivot_tables":0},"unopened":[],"bounds":{"document_bytes":16777216,"sheet_cells":100000,"rows_first":2000,"rows_last":500,"rows_between":2000,"halvings":0,"cell_chars":16384,"cell_head_chars":4096},"cells_cut":0,"cells_raw":0,"read":"whole","date_system":"1900"}

{"sheet":"INICIO","index":0,"n_rows":17,"n_cols":6,"rows_kept":17,"cut":false,"hidden":false,"merged":[[0,0,0,10],[6,0,6,10]]}
[]
[]
[]
[]
[]
[]
["SIMULADOR DE GRUPOS E DOCUMENTOS DOS EDITAIS DE ASSISTÊNCIA ESTUDANTIL"]
[]
[null,null,null,null,null,"Versão 1.0"]
[]
[]
[]
[]
[]
[]
[]
[null,null,null,null,null,"SEGUIR"]

{"sheet":"INICIO (4)","index":1,"n_rows":17,"n_cols":6,"rows_kept":17,"cut":false,"hidden":false,"merged":[[0,2,0,8]]}
[null,null,"SIMULADOR DE GRUPOS E DOCUMENTOS DOS EDITAIS DE ASSISTÊNCIA ESTUDANTIL"]
[]
[]
["Reitor: Prof. Sylvio Mário Puga Ferreira"]
["Pró-Reitora de Gestão de Pessoas: Maria Vanusa do Socorro de Souza Firmo"]
["Diretora do Departamento de Assistência Estudantil: Karime Rita de Souza Bentes"]
["Coordenadora de Desenvolvimento Estudantil: Ana Beatriz de Souza Cyrino"]
[]
[]
["FICHA TÉCNICA DO PROGRAMA"]
[]
["Idealização, Criação e Programação VBA: Vinicius Padilla"]
[]
[]
[]
[]
[null,null,null,null,null,"SEGUIR"]

{"sheet":"INICIO (3)","index":2,"n_rows":14,"n_cols":6,"rows_kept":14,"cut":false,"hidden":false,"merged":[[0,0,0,10],[2,0,8,10]]}
["SIMULADOR DE GRUPOS E DOCUMENTOS DOS EDITAIS DE ASSISTÊNCIA ESTUDANTIL"]
[]
["Esta simulação te, intuito de auxiliar e facilitar as(os) estudantes na escolha do grupo de renda e os documentos que deve entregar para seu núcleo familiar. Este simulador (como o nome já diz) não substitue a obrigação do candidato ler e se apropriar/cumprir o que esta inscrito no edital, sendo de responsabilidade total do candidato o preenchimento dos dados do simulador e informados na inscrição do edital. A administração não se responsabiliza por nenhum erro oriundo do preenchimento e/ou processamento dos dados deste simulador informado pelo estudante. Por este motivo sempre que o estudante tiver qualquer dúvida ou quiser conferir se as informações inseridas no simulador estão corretas,  pode procurar o DAEST enquanto órgão da Administração pública que estamos aberto para responder o estudante presencialmente em seu espaço físico, no plantão/balcão online de tira-dúvidas e/ou no e-mail institucional."]
[]
[]
[]
[]
[]
[]
[]
[]
[]
[]
[null,null,null,null,null,"INICIAR"]

{"sheet":"INICIO (2)","index":3,"n_rows":11,"n_cols":1,"rows_kept":11,"cut":false,"hidden":false,"merged":[[5,0,8,10],[10,0,15,10],[0,0,0,10],[2,0,3,10]]}
["CONCEITOS BÁSICOS"]
[]
["ø Núcleo Familiar: núcleo de pessoas unidas por laços afetivos, com ou sem laços consanguíneos. Tem como tarefa principal o cuidado e proteção dos membros, que usufruem dos mesmos recursos financeiros e podem residir ou não no mesmo domicílio."]
[]
[]
["ø Independente Financeiro: Não depende dinheiro de familiar ou pessoa próxima e nem estas pessoas dependem de você financeiramente, de maneira que você consegue comprovar que se sustenta sem nenhuma ajuda."]
[]
[]
[]
[]
["Atenção: Todas as perguntas a seguir envolvendo as profissões e atividades se referem no período dos dois meses de referência descritos no edital. Logo as profissões exercidas (e documentos) são referentes  aos meses do edital . Desta forma não é para considerar a situação atual no preenchimento deste documento."]

{"sheet":"Planilha1","index":4,"n_rows":8,"n_cols":8,"rows_kept":8,"cut":false,"hidden":false,"merged":[[0,0,0,10],[3,3,3,7]]}
["Você é independente Financeiro ?"]
[]
[]
[]
[]
[]
[]
[null,null,null,"SIM",null,null,null,"NÃO"]

{"sheet":"Planilha1 (2)","index":5,"n_rows":9,"n_cols":6,"rows_kept":9,"cut":false,"hidden":false,"merged":[[0,0,0,10],[7,5,8,10],[2,0,2,10]]}
["QUEM É TEU NÚCLEO FAMILIAR?"]
[]
["DIGITE OS DADOS DE CADA MEMBRO TEU NÚCLEO FAMILIAR E CLIQUE GRAVAR"]
[]
[null,"Nome Membro familiar","Profissão/ atividade ocupacional","Idade"]
[]
[]
[null,null,null,null,null,"APÓS GRAVAR TODOS MEMBROS CLIQUE EM SEGUIR"]
[null,"Nome Membro familiar","Profissão/ atividade ocupacional","Idade"]

{"sheet":"Planilha1 (4)","index":6,"n_rows":7,"n_cols":1,"rows_kept":7,"cut":false,"hidden":false,"merged":[[0,0,2,10],[6,3,6,7]]}
["Alguém do seu núcleo familiar (incluindo você) é menor de 18 anos de idade?"]
[]
[]
[]
[]
["Se sim, digite abaixo os NOMES DE TODAS PESSOAS do teu núcleo familiar menor de 18 anos."]
["Separe com vírgulas"]

{"sheet":"Planilha1 (5)","index":7,"n_rows":9,"n_cols":1,"rows_kept":9,"cut":false,"hidden":false,"merged":[[0,0,4,10],[8,3,8,7]]}
["Algum dos menores de 18 anos do seu núcleo familiar (incluindo você) trabalha como menor aprendiz?"]
[]
[]
[]
[]
[]
["Se sim, digite abaixo os NOMES DE TODAS PESSOAS do teu núcleo familiar que são MENOR APRENDIZ"]
[]
["Separe com vírgulas"]

{"sheet":"Planilha1 (20)","index":8,"n_rows":9,"n_cols":1,"rows_kept":9,"cut":false,"hidden":false,"merged":[[0,0,4,10],[8,3,8,7]]}
["Alguém do seu núcleo familiar (incluindo você) é Bolsista, Estágio Remunerado, Similares?"]
[]
[]
[]
[]
[]
[]
["Se sim, digite abaixo os NOMES DE TODAS PESSOAS do teu núcleo familiar BOLSISTA, ESTAGIÁRIO REMUNERADO"]
["Separe com vírgulas"]

{"sheet":"Planilha1 (6)","index":9,"n_rows":9,"n_cols":1,"rows_kept":9,"cut":false,"hidden":false,"merged":[[0,0,4,10],[8,3,8,7]]}
["Alguém do seu núcleo familiar (incluindo você) é Aposentado ou Pensionista ?"]
[]
[]
[]
[]
[]
["Se sim, digite abaixo os NOMES DE TODAS PESSOAS do teu núcleo familiar APOSENTADO, PENSIONISTA"]
[]
["Separe com vírgulas"]

{"sheet":"Planilha1 (16)","index":10,"n_rows":9,"n_cols":1,"rows_kept":9,"cut":false,"hidden":false,"merged":[[0,0,4,10],[8,3,8,7]]}
["Alguém do seu núcleo familiar (incluindo você)  Recebe benefícios previdencia (Auxílio Doença, Acidente,  Reclusão...)?"]
[]
[]
[]
[]
[]
["Se sim, digite abaixo os NOMES DE TODAS PESSOAS do teu núcleo familiar COM BENEFICIOS PREVIDÊNCIA "]
[]
["Separe com vírgulas"]

{"sheet":"Planilha1 (7)","index":11,"n_rows":8,"n_cols":1,"rows_kept":8,"cut":false,"hidden":false,"merged":[[0,0,4,10],[7,3,7,7]]}
["Alguém do seu núcleo familiar (incluindo você) trabalha como Servidor público?"]
[]
[]
[]
[]
[]
["Se sim, digite abaixo os NOMES DE TODAS PESSOAS do teu núcleo familiar SERVIDOR PÚBLICO."]
["Separe com vírgulas"]

{"sheet":"Planilha1 (14)","index":12,"n_rows":8,"n_cols":1,"rows_kept":8,"cut":false,"hidden":false,"merged":[[0,0,4,10],[7,3,7,7]]}
["Alguém do seu núcleo familiar (incluindo você) trabalha como  Militar?"]
[]
[]
[]
[]
[]
["Se sim, digite abaixo os NOMES DE TODAS PESSOAS do teu núcleo familiar que é MILITAR"]
["Separe com vírgulas"]

{"sheet":"Planilha1 (15)","index":13,"n_rows":8,"n_cols":1,"rows_kept":8,"cut":false,"hidden":false,"merged":[[0,0,4,10],[7,3,7,7]]}
["Alguém do seu núcleo familiar (incluindo você) trabalha de Carteira Assinada/Celetista?"]
[]
[]
[]
[]
[]
["Se sim, digite abaixo os NOMES DE TODAS PESSOAS do teu núcleo familiar trabalha com CARTEIRA ASSINADA"]
["Separe com vírgulas"]

{"sheet":"Planilha1 (8)","index":14,"n_rows":8,"n_cols":1,"rows_kept":8,"cut":false,"hidden":false,"merged":[[0,0,4,10],[7,3,7,7]]}
["Alguém do seu núcleo familiar (incluindo você) trabalha como Pescador?"]
[]
[]
[]
[]
[]
["Se sim, digite abaixo os NOMES DE TODAS PESSOAS do teu núcleo familiar PESCADOR ? "]
["Separe com vírgulas"]

{"sheet":"Planilha1 (9)","index":15,"n_rows":9,"n_cols":1,"rows_kept":9,"cut":false,"hidden":false,"merged":[[8,3,8,7],[0,0,5,10]]}
["Alguém do seu núcleo familiar (incluindo você) trabalha como Trabalhador Rural                         (Parceiro Rural/ Arrendatário (paga para uso do terra),  Dono de terra/sitiante) OU Pecuarista?"]
[]
[]
[]
[]
[]
[]
["Se sim, digite abaixo os NOMES DE TODAS PESSOAS do teu núcleo familiar TRABALHADOR RURAL OU PECUARISTA"]
["Separe com vírgulas"]

{"sheet":"Planilha1 (10)","index":16,"n_rows":11,"n_cols":1,"rows_kept":11,"cut":false,"hidden":false,"merged":[[10,3,10,7],[0,0,7,10]]}
["Alguém do seu núcleo familiar (incluindo você) trabalha fazendo Trabalhado Informal/Bicos (aula particular, UBER, entregador, venda trufa, AVON, prestanista, mototaxi, manicure etc  )?"]
[]
[]
[]
[]
[]
[]
[]
[]
["Se sim, digite abaixo os NOMES DE TODAS PESSOAS do teu núcleo familiar TRABALHADOR INFORMAL."]
["Separe com vírgulas"]

{"sheet":"Planilha1 (17)","index":17,"n_rows":11,"n_cols":1,"rows_kept":11,"cut":false,"hidden":false,"merged":[[0,0,7,10],[10,3,10,7]]}
["Alguém do seu núcleo familiar (incluindo você) trabalha fazendo Trabalho Eventual SEM carteira assinada (ex. faxineira, tradutor,musico de rua/boate, monitor em evento, freelancer)?"]
[]
[]
[]
[]
[]
[]
[]
[]
["Se sim, digite abaixo os NOMES DE TODAS PESSOAS do teu núcleo familiar TRABALHADOR EVENTUAL"]
["Separe com vírgulas"]

{"sheet":"Planilha1 (19)","index":18,"n_rows":11,"n_cols":1,"rows_kept":11,"cut":false,"hidden":false,"merged":[[0,0,7,10],[10,3,10,7]]}
["Alguém do seu núcleo familiar (incluindo você) trabalha como Profissional Liberal sem CNPJ (advogado, psicólogo, contador, dentista, médico etc) e/ou prestador de serviços?"]
[]
[]
[]
[]
[]
[]
[]
[]
["Se sim, digite abaixo os NOMES DE TODAS PESSOAS do teu núcleo familiar PROFISSIONAL LIBERAL."]
["Separe com vírgulas"]

{"sheet":"Planilha1 (11)","index":19,"n_rows":11,"n_cols":1,"rows_kept":11,"cut":false,"hidden":false,"merged":[[0,0,5,10],[10,3,10,7]]}
["Alguém do seu núcleo familiar (incluindo você) está Desempregado ( Dependente totalmente da ajuda de familiares/afetivos)?"]
[]
[]
[]
[]
[]
[]
[]
[]
["Se sim, digite abaixo os NOMES DE TODAS PESSOAS do teu núcleo familiar DESEMPREGADO "]
["Separe com vírgulas"]

{"sheet":"Planilha1 (12)","index":20,"n_rows":11,"n_cols":1,"rows_kept":11,"cut":false,"hidden":false,"merged":[[0,0,5,10],[10,3,10,7]]}
["Alguém do seu núcleo familiar (incluindo você) trabalha como Empresário ou Microempresário (incluindo MEI)?"]
[]
[]
[]
[]
[]
[]
[]
[]
["Se sim, digite abaixo os NOMES DE TODAS PESSOAS do teu núcleo familiar MICROEMPRASÁRIO"]
["Separe com vírgulas"]

{"sheet":"Planilha1 (18)","index":21,"n_rows":11,"n_cols":1,"rows_kept":11,"cut":false,"hidden":false,"merged":[[0,0,5,10],[10,3,10,7]]}
["Alguém do seu núcleo familiar (incluindo você) recebe Benefício de Prestação Continuada/BPC do INSS ?"]
[]
[]
[]
[]
[]
[]
[]
[]
["Se sim, digite abaixo os NOMES DE TODAS PESSOAS do teu núcleo familiar recebe BPC ? "]
["Separe com vírgulas"]

{"sheet":"Planilha1 (13)","index":22,"n_rows":19,"n_cols":13,"rows_kept":19,"cut":false,"hidden":false,"merged":[[2,1,4,1]]}
[]
[null,null,"ATIVIDADE INFORMADA","NOME(s)"]
[null,"Grupo 1",{"$f":"IF('Planilha1 (7)'!D8=\"\",\"\",\"Servidor Público\")","v":""},{"$f":"IF('Planilha1 (7)'!$D$8=\"\",\"\",'Planilha1 (7)'!$D$8)","v":""},null,null,null,null,null,null,null,{"$f":"IF('Planilha1 (7)'!$D$8=\"\",\"\",'Planilha1 (7)'!$D$8)","v":""},{"$f":"IF('Planilha1 (7)'!$D$8=\"\",\"\",'Planilha1 (7)'!$D$8)","v":""}]
[null,null,{"$f":"IF('Planilha1 (14)'!D8=\"\",\"\",\"Militar\")","v":""},{"$f":"IF('Planilha1 (14)'!$D$8=\"\",\"\",'Planilha1 (14)'!$D$8)","v":""},null,null,null,null,null,null,null,{"$f":"IF('Planilha1 (14)'!$D$8=\"\",\"\",'Planilha1 (14)'!$D$8)","v":""},{"$f":"IF('Planilha1 (14)'!$D$8=\"\",\"\",'Planilha1 (14)'!$D$8)","v":""}]
[null,null,{"$f":"IF('Planilha1 (15)'!D8=\"\",\"\",\"Carteira Assinada/Celetista\")","v":""},{"$f":"IF('Planilha1 (15)'!$D$8=\"\",\"\",'Planilha1 (15)'!$D$8)","v":""},null,null,null,null,null,null,null,{"$f":"IF('Planilha1 (15)'!$D$8=\"\",\"\",'Planilha1 (15)'!$D$8)","v":""},{"$f":"IF('Planilha1 (15)'!$D$8=\"\",\"\",'Planilha1 (15)'!$D$8)","v":""}]
[null,"Grupo 2",{"$f":"IF('Planilha1 (10)'!D11=\"\",\"\",\"Trabalhador Informal\")","v":""},{"$f":"IF('Planilha1 (10)'!$D$11=\"\",\"\",'Planilha1 (10)'!$D$11)","v":""},null,null,null,null,null,null,null,{"$f":"IF('Planilha1 (10)'!$D$11=\"\",\"\",'Planilha1 (10)'!$D$11)","v":""},{"$f":"IF('Planilha1 (10)'!$D$11=\"\",\"\",'Planilha1 (10)'!$D$11)","v":""}]
[null,null,{"$f":"IF('Planilha1 (17)'!D11=\"\",\"\",\"Trabalhador Eventual\")","v":""},{"$f":"IF('Planilha1 (17)'!$D$11=\"\",\"\",'Planilha1 (17)'!$D$11)","v":""},null,null,null,null,null,null,null,{"$f":"IF('Planilha1 (17)'!$D$11=\"\",\"\",'Planilha1 (17)'!$D$11)","v":""},{"$f":"IF('Planilha1 (17)'!$D$11=\"\",\"\",'Planilha1 (17)'!$D$11)","v":""}]
[null,null,{"$f":"IF('Planilha1 (19)'!D11=\"\",\"\",\"Trabalhador Liberal\")","v":""},{"$f":"IF('Planilha1 (19)'!$D$11=\"\",\"\",'Planilha1 (19)'!$D$11)","v":""},null,null,null,null,null,null,null,{"$f":"IF('Planilha1 (19)'!$D$11=\"\",\"\",'Planilha1 (19)'!$D$11)","v":""},{"$f":"IF('Planilha1 (19)'!$D$11=\"\",\"\",'Planilha1 (19)'!$D$11)","v":""}]
[null,"Grupo 3",{"$f":"IF('Planilha1 (11)'!D11=\"\",\"\",\"Desempregado\")","v":""},{"$f":"IF('Planilha1 (11)'!$D$11=\"\",\"\",'Planilha1 (11)'!$D$11)","v":""},null,null,null,null,null,null,null,{"$f":"IF('Planilha1 (11)'!$D$11=\"\",\"\",'Planilha1 (11)'!$D$11)","v":""},{"$f":"IF('Planilha1 (11)'!$D$11=\"\",\"\",'Planilha1 (11)'!$D$11)","v":""}]
[null,"Grupo 4",{"$f":"IF('Planilha1 (8)'!D8=\"\",\"\",\"Pescador\")","v":""},{"$f":"IF('Planilha1 (8)'!$D$8=\"\",\"\",'Planilha1 (8)'!$D$8)","v":""},null,null,null,null,null,null,null,{"$f":"IF('Planilha1 (8)'!$D$8=\"\",\"\",'Planilha1 (8)'!$D$8)","v":""},{"$f":"IF('Planilha1 (8)'!$D$8=\"\",\"\",'Planilha1 (8)'!$D$8)","v":""}]
[null,null,{"$f":"IF('Planilha1 (9)'!D9=\"\",\"\",\"Trabalhador rural/pecuarista\")","v":""},{"$f":"IF('Planilha1 (9)'!$D$9=\"\",\"\",'Planilha1 (9)'!$D$9)","v":""},null,null,null,null,null,null,null,{"$f":"IF('Planilha1 (9)'!$D$9=\"\",\"\",'Planilha1 (9)'!$D$9)","v":""},{"$f":"IF('Planilha1 (9)'!$D$9=\"\",\"\",'Planilha1 (9)'!$D$9)","v":""}]
[null,"Grupo 5",{"$f":"IF('Planilha1 (6)'!D9=\"\",\"\",\"Aposentado/Pensionista\")","v":""},{"$f":"IF('Planilha1 (6)'!$D$9=\"\",\"\",'Planilha1 (6)'!$D$9)","v":""},null,null,null,null,null,null,null,{"$f":"IF('Planilha1 (6)'!$D$9=\"\",\"\",'Planilha1 (6)'!$D$9)","v":""},{"$f":"IF('Planilha1 (6)'!$D$9=\"\",\"\",'Planilha1 (6)'!$D$9)","v":""}]
[null,null,{"$f":"IF('Planilha1 (16)'!D9=\"\",\"\",\"Beneficiário Prev.\")","v":""},{"$f":"IF('Planilha1 (16)'!$D$9=\"\",\"\",'Planilha1 (16)'!$D$9)","v":""},null,null,null,null,null,null,null,{"$f":"IF('Planilha1 (16)'!$D$9=\"\",\"\",'Planilha1 (16)'!$D$9)","v":""},{"$f":"IF('Planilha1 (16)'!$D$9=\"\",\"\",'Planilha1 (16)'!$D$9)","v":""}]
[null,"Grupo 6",{"$f":"IF('Planilha1 (12)'!D11=\"\",\"\",\"Empresário/Microempresário\")","v":""},{"$f":"IF('Planilha1 (12)'!$D$11=\"\",\"\",'Planilha1 (12)'!$D$11)","v":""},null,null,null,null,null,null,null,{"$f":"IF('Planilha1 (12)'!$D$11=\"\",\"\",'Planilha1 (12)'!$D$11)","v":""},{"$f":"IF('Planilha1 (12)'!$D$11=\"\",\"\",'Planilha1 (12)'!$D$11)","v":""}]
[null,"Grupo 7",{"$f":"IF('Planilha1 (5)'!D9=\"\",\"\",\"Menor Aprendiz\")","v":""},{"$f":"IF('Planilha1 (5)'!$D$9=\"\",\"\",'Planilha1 (5)'!$D$9)","v":""},null,null,null,null,null,null,null,{"$f":"IF('Planilha1 (5)'!$D$9=\"\",\"\",'Planilha1 (5)'!$D$9)","v":""},{"$f":"IF('Planilha1 (5)'!$D$9=\"\",\"\",'Planilha1 (5)'!$D$9)","v":""}]
[null,null,{"$f":"IF('Planilha1 (20)'!D9=\"\",\"\",\"Bolsista/Estágio Remunerado\")","v":""},{"$f":"IF('Planilha1 (20)'!$D$9=\"\",\"\",'Planilha1 (20)'!$D$9)","v":""},null,null,null,null,null,null,null,{"$f":"IF('Planilha1 (20)'!$D$9=\"\",\"\",'Planilha1 (20)'!$D$9)","v":""},{"$f":"IF('Planilha1 (20)'!$D$9=\"\",\"\",'Planilha1 (20)'!$D$9)","v":""}]
[null,"Grupo 8",{"$f":"IF('Planilha1 (18)'!D11=\"\",\"\",\"BPC\")","v":""},{"$f":"IF('Planilha1 (18)'!$D$11=\"\",\"\",'Planilha1 (18)'!$D$11)","v":""},null,null,null,null,null,null,null,{"$f":"IF('Planilha1 (18)'!$D$11=\"\",\"\",'Planilha1 (18)'!$D$11)","v":""},{"$f":"IF('Planilha1 (18)'!$D$11=\"\",\"\",'Planilha1 (18)'!$D$11)","v":""}]
[null,"Grupo 9",{"$f":"IF('Planilha1 (4)'!D7=\"\",\"\",\"Menor de 18 Anos\")","v":""},{"$f":"IF('Planilha1 (4)'!$D$7=\"\",\"\",'Planilha1 (4)'!$D$7)","v":""},null,null,null,null,null,null,null,{"$f":"IF('Planilha1 (4)'!$D$7=\"\",\"\",'Planilha1 (4)'!$D$7)","v":""},{"$f":"IF('Planilha1 (4)'!$D$7=\"\",\"\",'Planilha1 (4)'!$D$7)","v":""}]
[null,null,null,null,null,null,null,null,null,null,null,null,{"$f":"IF('Planilha1 (4)'!$D$7=\"\",\"\",'Planilha1 (4)'!$D$7)","v":""}]

{"sheet":"Planilha1 (21)","index":23,"n_rows":27,"n_cols":12,"rows_kept":27,"cut":false,"hidden":false,"merged":[[2,1,4,1],[0,3,0,11]]}
[null,null,null,"GRUPOS"]
[]
[]
[]
[null,null,null,"Grupo 1","Grupo 2","Grupo 3","Grupo 4","Grupo 5","Grupo 6","Grupo 7","Grupo 8","Grupo 9"]
[null,null,null,"Sim","Sim","Sim","Sim","Sim","Sim","Sim","Sim","Sim"]
[null,null,null,"Sim","Sim","Sim","Sim","Sim","Sim","Sim","Sim","Sim"]
[null,null,null,"Sim","Sim","Sim","Sim","Sim","Sim","Sim","Sim","Sim"]
[null,null,null,"Sim","Sim","Sim","Sim","Sim","Sim","Sim","Sim","Sim"]
[null,null,null,"Sim","Sim","Sim","Sim","Sim","Sim","Sim","Sim","Sim"]
[null,null,null,"Sim","Sim","Sim","Sim","Sim","Sim","Sim","Sim","Sim"]
[null,null,null,"Sim","Sim","Sim","Sim","Sim","Sim","Sim","Sim","Sim"]
[null,null,null,"Sim","Sim","Sim","Sim","Sim","Sim","Sim","Sim","Sim"]
[null,null,null,"Sim","Sim","Sim","Sim","Sim","Sim","Sim","Sim","Sim"]
[null,null,null,"Sim","Sim","Sim","Sim","Sim","Sim","Sim","Sim","Sim"]
[null,null,null,"Sim","Sim","Sim","Sim","Sim","Sim","Sim","Sim","Sim"]
[null,null,null,"Sim","Sim","Sim","Sim","Sim","Sim","Sim","Sim","Sim"]
[null,null,null,"Sim","Sim","Sim","Sim","Sim","Sim","Sim","Sim","Sim"]
[null,null,null,"Sim","Sim","Sim","Sim","Sim","Sim","Sim","Sim","Sim"]
[null,null,null,"Sim","Sim","Sim","Sim","Sim","Sim","Sim","Sim","Sim"]
[null,null,null,"Sim","Sim","Sim","Sim","Sim","Sim","Sim","Sim","Sim"]
[null,null,null,"Sim","Sim","Sim","Sim","Sim","Sim","Sim","Sim","Sim"]
[null,null,null,"Sim","Sim","Sim","Sim","Sim","Sim","Sim","Sim","Sim"]
[null,null,null,"Sim","Sim","Sim","Sim","Sim","Sim","Sim","Sim","Sim"]
[null,null,null,"Sim","Sim","Sim","Sim","Sim","Sim","Sim","Sim","Sim"]
[null,null,null,"Sim","Sim","Sim","Sim","Sim","Sim","Sim","Sim","Sim"]
[null,null,null,"Sim","Sim","Sim","Sim","Sim","Sim","Sim","Sim","Sim"]

{"sheet":"Planilha1 (22)","index":24,"n_rows":22,"n_cols":12,"rows_kept":22,"cut":false,"hidden":false,"merged":[[2,1,4,1],[0,1,0,10]]}
[null,"DOCUMENTAÇÃO POR GRUPO- Anexo III Quadro II"]
[]
[]
[]
[null,null,"Documentos Grupo 1","Documentos Grupo 2","DocumentosGrupo 3","Documentos Grupo 4","Documentos Grupo 5","Documentos Grupo 6","Documentos Grupo 7","Documentos Grupo 8","Documentos Grupo 9","Grupo 9"]
[null,{"$f":"IF('Planilha1 (21)'!C6<>\"\",'Planilha1 (21)'!C6,\"\")","v":""},{"$f":"IF(AND('Planilha1 (21)'!$C6<>\"\",'Planilha1 (21)'!D$6<>\"\"),\"1,2 ou 3,4,5,6,7, 24(se for o caso),25(se for o caso),26 (se for o caso)\",\"\")","v":""},{"$f":"IF(AND('Planilha1 (21)'!$C6<>\"\",'Planilha1 (21)'!E6<>\"\"),\"1,2 ou 3,5,6 ou 8,7 (caso apresente o 6),9, 24(se for o caso),25(se for o caso),26 (se for o caso)\",\"\")","v":""},{"$f":"IF(AND('Planilha1 (21)'!$C6<>\"\",'Planilha1 (21)'!F6<>\"\"),\"1,2 ou 3,6 ou 8,7 (caso apresente o 6), 10,11(se for o caso), 24(se for o caso),25(se for o caso),26 (se for o caso)\",\"\")","v":""},{"$f":"IF(AND('Planilha1 (21)'!$C6<>\"\",'Planilha1 (21)'!G6<>\"\"),\"1,2 ou 3,5,6 ou 8,7 (caso apresente o 6), 12 e/ou 13 e/ou 14, 24(se for o caso),25(se for o caso),26 (se for o caso)\",\"\")","v":""},{"$f":"IF(AND('Planilha1 (21)'!$C6<>\"\",'Planilha1 (21)'!H6<>\"\"),\"1,2 ou 3,5,6 ou 8,7 (caso apresente o 6), 15, 24(se for o caso),25(se for o caso),26 (se for o caso)\",\"\")","v":""},{"$f":"IF(AND('Planilha1 (21)'!$C6<>\"\",'Planilha1 (21)'!I6<>\"\"),\"1,2 ou 3,5,6 ou 8,7 (caso apresente o 6), 16, 17, 24(se for o caso),25(se for o caso),26 (se for o caso)\",\"\")","v":""},{"$f":"IF(AND('Planilha1 (21)'!$C6<>\"\",'Planilha1 (21)'!J6<>\"\"),\"1,2 ou 3,5,6 ou 8,7 (caso apresente o 6), 18 e/ou 19 e/ou 20, 24(se for o caso),25(se for o caso),26 (se for o caso)\",\"\")","v":""},{"$f":"IF(AND('Planilha1 (21)'!$C6<>\"\",'Planilha1 (21)'!K6<>\"\"),\"21 ou 22, 24(se for o caso), 25(se for o caso)\",\"\")","v":""},{"$f":"IF(AND('Planilha1 (21)'!$C6<>\"\",'Planilha1 (21)'!L6<>\"\"),\"23\",\"\")","v":""}]
[null,{"$f":"IF('Planilha1 (21)'!C7<>\"\",'Planilha1 (21)'!C7,\"\")","v":""},{"$f":"IF(AND('Planilha1 (21)'!$C7<>\"\",'Planilha1 (21)'!D$7<>\"\"),\"1,2 ou 3,4,5,6,7, 24(se for o caso),25(se for o caso),26 (se for o caso)\",\"\")","v":""},{"$f":"IF(AND('Planilha1 (21)'!$C7<>\"\",'Planilha1 (21)'!E7<>\"\"),\"1,2 ou 3,5,6 ou 8,7 (caso apresente o 6),9, 24(se for o caso),25(se for o caso),26 (se for o caso)\",\"\")","v":""},{"$f":"IF(AND('Planilha1 (21)'!$C7<>\"\",'Planilha1 (21)'!F7<>\"\"),\"1,2 ou 3,6 ou 8,7 (caso apresente o 6), 10,11(se for o caso), 24(se for o caso),25(se for o caso),26 (se for o caso)\",\"\")","v":""},{"$f":"IF(AND('Planilha1 (21)'!$C7<>\"\",'Planilha1 (21)'!G7<>\"\"),\"1,2 ou 3,5,6 ou 8,7 (caso apresente o 6), 12 e/ou 13 e/ou 14, 24(se for o caso),25(se for o caso),26 (se for o caso)\",\"\")","v":""},{"$f":"IF(AND('Planilha1 (21)'!$C7<>\"\",'Planilha1 (21)'!H7<>\"\"),\"1,2 ou 3,5,6 ou 8,7 (caso apresente o 6), 15, 24(se for o caso),25(se for o caso),26 (se for o caso)\",\"\")","v":""},{"$f":"IF(AND('Planilha1 (21)'!$C7<>\"\",'Planilha1 (21)'!I7<>\"\"),\"1,2 ou 3,5,6 ou 8,7 (caso apresente o 6), 16, 17, 24(se for o caso),25(se for o caso),26 (se for o caso)\",\"\")","v":""},{"$f":"IF(AND('Planilha1 (21)'!$C7<>\"\",'Planilha1 (21)'!J7<>\"\"),\"1,2 ou 3,5,6 ou 8,7 (caso apresente o 6), 18 e/ou 19 e/ou 20, 24(se for o caso),25(se for o caso),26 (se for o caso)\",\"\")","v":""},{"$f":"IF(AND('Planilha1 (21)'!$C7<>\"\",'Planilha1 (21)'!K7<>\"\"),\"21 ou 22,24(se for o caso), 25(se for o caso)\",\"\")","v":""},{"$f":"IF(AND('Planilha1 (21)'!$C7<>\"\",'Planilha1 (21)'!L7<>\"\"),\"23\",\"\")","v":""}]
[null,{"$f":"IF('Planilha1 (21)'!C8<>\"\",'Planilha1 (21)'!C8,\"\")","v":""},{"$f":"IF(AND('Planilha1 (21)'!$C8<>\"\",'Planilha1 (21)'!D$8<>\"\"),\"1,2 ou 3,4,5,6,7, 24(se for o caso),25(se for o caso),26 (se for o caso)\",\"\")","v":""},{"$f":"IF(AND('Planilha1 (21)'!$C8<>\"\",'Planilha1 (21)'!E8<>\"\"),\"1,2 ou 3,5,6 ou 8,7 (caso apresente o 6),9, 24(se for o caso),25(se for o caso),26 (se for o caso)\",\"\")","v":""},{"$f":"IF(AND('Planilha1 (21)'!$C8<>\"\",'Planilha1 (21)'!F8<>\"\"),\"1,2 ou 3,6 ou 8,7 (caso apresente o 6), 10,11(se for o caso), 24(se for o caso),25(se for o caso),26 (se for o caso)\",\"\")","v":""},{"$f":"IF(AND('Planilha1 (21)'!$C8<>\"\",'Planilha1 (21)'!G8<>\"\"),\"1,2 ou 3,5,6 ou 8,7 (caso apresente o 6), 12 e/ou 13 e/ou 14, 24(se for o caso),25(se for o caso),26 (se for o caso)\",\"\")","v":""},{"$f":"IF(AND('Planilha1 (21)'!$C8<>\"\",'Planilha1 (21)'!H8<>\"\"),\"1,2 ou 3,5,6 ou 8,7 (caso apresente o 6), 15, 24(se for o caso),25(se for o caso),26 (se for o caso)\",\"\")","v":""},{"$f":"IF(AND('Planilha1 (21)'!$C8<>\"\",'Planilha1 (21)'!I8<>\"\"),\"1,2 ou 3,5,6 ou 8,7 (caso apresente o 6), 16, 17, 24(se for o caso),25(se for o caso),26 (se for o caso)\",\"\")","v":""},{"$f":"IF(AND('Planilha1 (21)'!$C8<>\"\",'Planilha1 (21)'!J8<>\"\"),\"1,2 ou 3,5,6 ou 8,7 (caso apresente o 6), 18 e/ou 19 e/ou 20, 24(se for o caso),25(se for o caso),26 (se for o caso)\",\"\")","v":""},{"$f":"IF(AND('Planilha1 (21)'!$C8<>\"\",'Planilha1 (21)'!K8<>\"\"),\"21 ou 22,24(se for o caso), 25(se for o caso)\",\"\")","v":""},{"$f":"IF(AND('Planilha1 (21)'!$C8<>\"\",'Planilha1 (21)'!L8<>\"\"),\"23\",\"\")","v":""}]
[null,{"$f":"IF('Planilha1 (21)'!C9<>\"\",'Planilha1 (21)'!C9,\"\")","v":""},{"$f":"IF(AND('Planilha1 (21)'!$C9<>\"\",'Planilha1 (21)'!D$9<>\"\"),\"1,2 ou 3,4,5,6,7, 24(se for o caso),25(se for o caso),26 (se for o caso)\",\"\")","v":""},{"$f":"IF(AND('Planilha1 (21)'!$C9<>\"\",'Planilha1 (21)'!E9<>\"\"),\"1,2 ou 3,5,6 ou 8,7 (caso apresente o 6),9, 24(se for o caso),25(se for o caso),26 (se for o caso)\",\"\")","v":""},{"$f":"IF(AND('Planilha1 (21)'!$C9<>\"\",'Planilha1 (21)'!F9<>\"\"),\"1,2 ou 3,6 ou 8,7 (caso apresente o 6), 10,11(se for o caso), 24(se for o caso),25(se for o caso),26 (se for o caso)\",\"\")","v":""},{"$f":"IF(AND('Planilha1 (21)'!$C9<>\"\",'Planilha1 (21)'!G9<>\"\"),\"1,2 ou 3,5,6 ou 8,7 (caso apresente o 6), 12 e/ou 13 e/ou 14, 24(se for o caso),25(se for o caso),26 (se for o caso)\",\"\")","v":""},{"$f":"IF(AND('Planilha1 (21)'!$C9<>\"\",'Planilha1 (21)'!H9<>\"\"),\"1,2 ou 3,5,6 ou 8,7 (caso apresente o 6), 15, 24(se for o caso),25(se for o caso),26 (se for o caso)\",\"\")","v":""},{"$f":"IF(AND('Planilha1 (21)'!$C9<>\"\",'Planilha1 (21)'!I9<>\"\"),\"1,2 ou 3,5,6 ou 8,7 (caso apresente o 6), 16, 17, 24(se for o caso),25(se for o caso),26 (se for o caso)\",\"\")","v":""},{"$f":"IF(AND('Planilha1 (21)'!$C9<>\"\",'Planilha1 (21)'!J9<>\"\"),\"1,2 ou 3,5,6 ou 8,7 (caso apresente o 6), 18 e/ou 19 e/ou 20, 24(se for o caso),25(se for o caso),26 (se for o caso)\",\"\")","v":""},{"$f":"IF(AND('Planilha1 (21)'!$C9<>\"\",'Planilha1 (21)'!K9<>\"\"),\"21 ou 22,24(se for o caso), 25(se for o caso)\",\"\")","v":""},{"$f":"IF(AND('Planilha1 (21)'!$C9<>\"\",'Planilha1 (21)'!L9<>\"\"),\"23\",\"\")","v":""}]
[null,{"$f":"IF('Planilha1 (21)'!C10<>\"\",'Planilha1 (21)'!C10,\"\")","v":""},{"$f":"IF(AND('Planilha1 (21)'!$C10<>\"\",'Planilha1 (21)'!D$10<>\"\"),\"1,2 ou 3,4,5,6,7, 24(se for o caso),25(se for o caso),26 (se for o caso)\",\"\")","v":""},{"$f":"IF(AND('Planilha1 (21)'!$C10<>\"\",'Planilha1 (21)'!E10<>\"\"),\"1,2 ou 3,5,6 ou 8,7 (caso apresente o 6),9, 24(se for o caso),25(se for o caso),26 (se for o caso)\",\"\")","v":""},{"$f":"IF(AND('Planilha1 (21)'!$C10<>\"\",'Planilha1 (21)'!F10<>\"\"),\"1,2 ou 3,6 ou 8,7 (caso apresente o 6), 10,11(se for o caso), 24(se for o caso),25(se for o caso),26 (se for o caso)\",\"\")","v":""},{"$f":"IF(AND('Planilha1 (21)'!$C10<>\"\",'Planilha1 (21)'!G10<>\"\"),\"1,2 ou 3,5,6 ou 8,7 (caso apresente o 6), 12 e/ou 13 e/ou 14, 24(se for o caso),25(se for o caso),26 (se for o caso)\",\"\")","v":""},{"$f":"IF(AND('Planilha1 (21)'!$C10<>\"\",'Planilha1 (21)'!H10<>\"\"),\"1,2 ou 3,5,6 ou 8,7 (caso apresente o 6), 15, 24(se for o caso),25(se for o caso),26 (se for o caso)\",\"\")","v":""},{"$f":"IF(AND('Planilha1 (21)'!$C10<>\"\",'Planilha1 (21)'!I10<>\"\"),\"1,2 ou 3,5,6 ou 8,7 (caso apresente o 6), 16, 17, 24(se for o caso),25(se for o caso),26 (se for o caso)\",\"\")","v":""},{"$f":"IF(AND('Planilha1 (21)'!$C10<>\"\",'Planilha1 (21)'!J10<>\"\"),\"1,2 ou 3,5,6 ou 8,7 (caso apresente o 6), 18 e/ou 19 e/ou 20, 24(se for o caso),25(se for o caso),26 (se for o caso)\",\"\")","v":""},{"$f":"IF(AND('Planilha1 (21)'!$C10<>\"\",'Planilha1 (21)'!K10<>\"\"),\"21 ou 22,24(se for o caso), 25(se for o caso)\",\"\")","v":""},{"$f":"IF(AND('Planilha1 (21)'!$C10<>\"\",'Planilha1 (21)'!L10<>\"\"),\"23\",\"\")","v":""}]
[null,{"$f":"IF('Planilha1 (21)'!C11<>\"\",'Planilha1 (21)'!C11,\"\")","v":""},{"$f":"IF(AND('Planilha1 (21)'!$C11<>\"\",'Planilha1 (21)'!D$11<>\"\"),\"1,2 ou 3,4,5,6,7, 24(se for o caso),25(se for o caso),26 (se for o caso)\",\"\")","v":""},{"$f":"IF(AND('Planilha1 (21)'!$C11<>\"\",'Planilha1 (21)'!E11<>\"\"),\"1,2 ou 3,5,6 ou 8,7 (caso apresente o 6),9, 24(se for o caso),25(se for o caso),26 (se for o caso)\",\"\")","v":""},{"$f":"IF(AND('Planilha1 (21)'!$C11<>\"\",'Planilha1 (21)'!F11<>\"\"),\"1,2 ou 3,6 ou 8,7 (caso apresente o 6), 10,11(se for o caso), 24(se for o caso),25(se for o caso),26 (se for o caso)\",\"\")","v":""},{"$f":"IF(AND('Planilha1 (21)'!$C11<>\"\",'Planilha1 (21)'!G11<>\"\"),\"1,2 ou 3,5,6 ou 8,7 (caso apresente o 6), 12 e/ou 13 e/ou 14, 24(se for o caso),25(se for o caso),26 (se for o caso)\",\"\")","v":""},{"$f":"IF(AND('Planilha1 (21)'!$C11<>\"\",'Planilha1 (21)'!H11<>\"\"),\"1,2 ou 3,5,6 ou 8,7 (caso apresente o 6), 15, 24(se for o caso),25(se for o caso),26 (se for o caso)\",\"\")","v":""},{"$f":"IF(AND('Planilha1 (21)'!$C11<>\"\",'Planilha1 (21)'!I11<>\"\"),\"1,2 ou 3,5,6 ou 8,7 (caso apresente o 6), 16, 17, 24(se for o caso),25(se for o caso),26 (se for o caso)\",\"\")","v":""},{"$f":"IF(AND('Planilha1 (21)'!$C11<>\"\",'Planilha1 (21)'!J11<>\"\"),\"1,2 ou 3,5,6 ou 8,7 (caso apresente o 6), 18 e/ou 19 e/ou 20, 24(se for o caso),25(se for o caso),26 (se for o caso)\",\"\")","v":""},{"$f":"IF(AND('Planilha1 (21)'!$C11<>\"\",'Planilha1 (21)'!K11<>\"\"),\"21 ou 22,24(se for o caso), 25(se for o caso)\",\"\")","v":""},{"$f":"IF(AND('Planilha1 (21)'!$C11<>\"\",'Planilha1 (21)'!L11<>\"\"),\"23\",\"\")","v":""}]
[null,{"$f":"IF('Planilha1 (21)'!C12<>\"\",'Planilha1 (21)'!C12,\"\")","v":""},{"$f":"IF(AND('Planilha1 (21)'!$C12<>\"\",'Planilha1 (21)'!D$12<>\"\"),\"1,2 ou 3,4,5,6,7, 24(se for o caso),25(se for o caso),26 (se for o caso)\",\"\")","v":""},{"$f":"IF(AND('Planilha1 (21)'!$C12<>\"\",'Planilha1 (21)'!E12<>\"\"),\"1,2 ou 3,5,6 ou 8,7 (caso apresente o 6),9, 24(se for o caso),25(se for o caso),26 (se for o caso)\",\"\")","v":""},{"$f":"IF(AND('Planilha1 (21)'!$C12<>\"\",'Planilha1 (21)'!F12<>\"\"),\"1,2 ou 3,6 ou 8,7 (caso apresente o 6), 10,11(se for o caso), 24(se for o caso),25(se for o caso),26 (se for o caso)\",\"\")","v":""},{"$f":"IF(AND('Planilha1 (21)'!$C12<>\"\",'Planilha1 (21)'!G12<>\"\"),\"1,2 ou 3,5,6 ou 8,7 (caso apresente o 6), 12 e/ou 13 e/ou 14, 24(se for o caso),25(se for o caso),26 (se for o caso)\",\"\")","v":""},{"$f":"IF(AND('Planilha1 (21)'!$C12<>\"\",'Planilha1 (21)'!H12<>\"\"),\"1,2 ou 3,5,6 ou 8,7 (caso apresente o 6), 15, 24(se for o caso),25(se for o caso),26 (se for o caso)\",\"\")","v":""},{"$f":"IF(AND('Planilha1 (21)'!$C12<>\"\",'Planilha1 (21)'!I12<>\"\"),\"1,2 ou 3,5,6 ou 8,7 (caso apresente o 6), 16, 17, 24(se for o caso),25(se for o caso),26 (se for o caso)\",\"\")","v":""},{"$f":"IF(AND('Planilha1 (21)'!$C12<>\"\",'Planilha1 (21)'!J12<>\"\"),\"1,2 ou 3,5,6 ou 8,7 (caso apresente o 6), 18 e/ou 19 e/ou 20, 24(se for o caso),25(se for o caso),26 (se for o caso)\",\"\")","v":""},{"$f":"IF(AND('Planilha1 (21)'!$C12<>\"\",'Planilha1 (21)'!K12<>\"\"),\"21 ou 22,24(se for o caso), 25(se for o caso)\",\"\")","v":""},{"$f":"IF(AND('Planilha1 (21)'!$C12<>\"\",'Planilha1 (21)'!L12<>\"\"),\"23\",\"\")","v":""}]
[null,{"$f":"IF('Planilha1 (21)'!C13<>\"\",'Planilha1 (21)'!C13,\"\")","v":""},{"$f":"IF(AND('Planilha1 (21)'!$C13<>\"\",'Planilha1 (21)'!D$13<>\"\"),\"1,2 ou 3,4,5,6,7, 24(se for o caso),25(se for o caso),26 (se for o caso)\",\"\")","v":""},{"$f":"IF(AND('Planilha1 (21)'!$C13<>\"\",'Planilha1 (21)'!E13<>\"\"),\"1,2 ou 3,5,6 ou 8,7 (caso apresente o 6),9, 24(se for o caso),25(se for o caso),26 (se for o caso)\",\"\")","v":""},{"$f":"IF(AND('Planilha1 (21)'!$C13<>\"\",'Planilha1 (21)'!F13<>\"\"),\"1,2 ou 3,6 ou 8,7 (caso apresente o 6), 10,11(se for o caso), 24(se for o caso),25(se for o caso),26 (se for o caso)\",\"\")","v":""},{"$f":"IF(AND('Planilha1 (21)'!$C13<>\"\",'Planilha1 (21)'!G13<>\"\"),\"1,2 ou 3,5,6 ou 8,7 (caso apresente o 6), 12 e/ou 13 e/ou 14, 24(se for o caso),25(se for o caso),26 (se for o caso)\",\"\")","v":""},{"$f":"IF(AND('Planilha1 (21)'!$C13<>\"\",'Planilha1 (21)'!H13<>\"\"),\"1,2 ou 3,5,6 ou 8,7 (caso apresente o 6), 15, 24(se for o caso),25(se for o caso),26 (se for o caso)\",\"\")","v":""},{"$f":"IF(AND('Planilha1 (21)'!$C13<>\"\",'Planilha1 (21)'!I13<>\"\"),\"1,2 ou 3,5,6 ou 8,7 (caso apresente o 6), 16, 17, 24(se for o caso),25(se for o caso),26 (se for o caso)\",\"\")","v":""},{"$f":"IF(AND('Planilha1 (21)'!$C13<>\"\",'Planilha1 (21)'!J13<>\"\"),\"1,2 ou 3,5,6 ou 8,7 (caso apresente o 6), 18 e/ou 19 e/ou 20, 24(se for o caso),25(se for o caso),26 (se for o caso)\",\"\")","v":""},{"$f":"IF(AND('Planilha1 (21)'!$C13<>\"\",'Planilha1 (21)'!K13<>\"\"),\"21 ou 22,24(se for o caso), 25(se for o caso)\",\"\")","v":""},{"$f":"IF(AND('Planilha1 (21)'!$C13<>\"\",'Planilha1 (21)'!L13<>\"\"),\"23\",\"\")","v":""}]
[null,{"$f":"IF('Planilha1 (21)'!C14<>\"\",'Planilha1 (21)'!C14,\"\")","v":""},{"$f":"IF(AND('Planilha1 (21)'!$C14<>\"\",'Planilha1 (21)'!D$14<>\"\"),\"1,2 ou 3,4,5,6,7, 24(se for o caso),25(se for o caso),26 (se for o caso)\",\"\")","v":""},{"$f":"IF(AND('Planilha1 (21)'!$C14<>\"\",'Planilha1 (21)'!E14<>\"\"),\"1,2 ou 3,5,6 ou 8,7 (caso apresente o 6),9, 24(se for o caso),25(se for o caso),26 (se for o caso)\",\"\")","v":""},{"$f":"IF(AND('Planilha1 (21)'!$C14<>\"\",'Planilha1 (21)'!F14<>\"\"),\"1,2 ou 3,6 ou 8,7 (caso apresente o 6), 10,11(se for o caso), 24(se for o caso),25(se for o caso),26 (se for o caso)\",\"\")","v":""},{"$f":"IF(AND('Planilha1 (21)'!$C14<>\"\",'Planilha1 (21)'!G14<>\"\"),\"1,2 ou 3,5,6 ou 8,7 (caso apresente o 6), 12 e/ou 13 e/ou 14, 24(se for o caso),25(se for o caso),26 (se for o caso)\",\"\")","v":""},{"$f":"IF(AND('Planilha1 (21)'!$C14<>\"\",'Planilha1 (21)'!H14<>\"\"),\"1,2 ou 3,5,6 ou 8,7 (caso apresente o 6), 15, 24(se for o caso),25(se for o caso),26 (se for o caso)\",\"\")","v":""},{"$f":"IF(AND('Planilha1 (21)'!$C14<>\"\",'Planilha1 (21)'!I14<>\"\"),\"1,2 ou 3,5,6 ou 8,7 (caso apresente o 6), 16, 17, 24(se for o caso),25(se for o caso),26 (se for o caso)\",\"\")","v":""},{"$f":"IF(AND('Planilha1 (21)'!$C14<>\"\",'Planilha1 (21)'!J14<>\"\"),\"1,2 ou 3,5,6 ou 8,7 (caso apresente o 6), 18 e/ou 19 e/ou 20, 24(se for o caso),25(se for o caso),26 (se for o caso)\",\"\")","v":""},{"$f":"IF(AND('Planilha1 (21)'!$C14<>\"\",'Planilha1 (21)'!K14<>\"\"),\"21 ou 22,24(se for o caso), 25(se for o caso)\",\"\")","v":""},{"$f":"IF(AND('Planilha1 (21)'!$C14<>\"\",'Planilha1 (21)'!L14<>\"\"),\"23\",\"\")","v":""}]
[null,{"$f":"IF('Planilha1 (21)'!C15<>\"\",'Planilha1 (21)'!C15,\"\")","v":""},{"$f":"IF(AND('Planilha1 (21)'!$C15<>\"\",'Planilha1 (21)'!D$15<>\"\"),\"1,2 ou 3,4,5,6,7, 24(se for o caso),25(se for o caso),26 (se for o caso)\",\"\")","v":""},{"$f":"IF(AND('Planilha1 (21)'!$C15<>\"\",'Planilha1 (21)'!E15<>\"\"),\"1,2 ou 3,5,6 ou 8,7 (caso apresente o 6),9, 24(se for o caso),25(se for o caso),26 (se for o caso)\",\"\")","v":""},{"$f":"IF(AND('Planilha1 (21)'!$C15<>\"\",'Planilha1 (21)'!F15<>\"\"),\"1,2 ou 3,6 ou 8,7 (caso apresente o 6), 10,11(se for o caso), 24(se for o caso),25(se for o caso),26 (se for o caso)\",\"\")","v":""},{"$f":"IF(AND('Planilha1 (21)'!$C15<>\"\",'Planilha1 (21)'!G15<>\"\"),\"1,2 ou 3,5,6 ou 8,7 (caso apresente o 6), 12 e/ou 13 e/ou 14, 24(se for o caso),25(se for o caso),26 (se for o caso)\",\"\")","v":""},{"$f":"IF(AND('Planilha1 (21)'!$C15<>\"\",'Planilha1 (21)'!H15<>\"\"),\"1,2 ou 3,5,6 ou 8,7 (caso apresente o 6), 15, 24(se for o caso),25(se for o caso),26 (se for o caso)\",\"\")","v":""},{"$f":"IF(AND('Planilha1 (21)'!$C15<>\"\",'Planilha1 (21)'!I15<>\"\"),\"1,2 ou 3,5,6 ou 8,7 (caso apresente o 6), 16, 17, 24(se for o caso),25(se for o caso),26 (se for o caso)\",\"\")","v":""},{"$f":"IF(AND('Planilha1 (21)'!$C15<>\"\",'Planilha1 (21)'!J15<>\"\"),\"1,2 ou 3,5,6 ou 8,7 (caso apresente o 6), 18 e/ou 19 e/ou 20, 24(se for o caso),25(se for o caso),26 (se for o caso)\",\"\")","v":""},{"$f":"IF(AND('Planilha1 (21)'!$C15<>\"\",'Planilha1 (21)'!K15<>\"\"),\"21 ou 22,24(se for o caso), 25(se for o caso)\",\"\")","v":""},{"$f":"IF(AND('Planilha1 (21)'!$C15<>\"\",'Planilha1 (21)'!L15<>\"\"),\"23\",\"\")","v":""}]
[null,{"$f":"IF('Planilha1 (21)'!C16<>\"\",'Planilha1 (21)'!C16,\"\")","v":""},{"$f":"IF(AND('Planilha1 (21)'!$C16<>\"\",'Planilha1 (21)'!D$16<>\"\"),\"1,2 ou 3,4,5,6,7, 24(se for o caso),25(se for o caso),26 (se for o caso)\",\"\")","v":""},{"$f":"IF(AND('Planilha1 (21)'!$C16<>\"\",'Planilha1 (21)'!E16<>\"\"),\"1,2 ou 3,5,6 ou 8,7 (caso apresente o 6),9, 24(se for o caso),25(se for o caso),26 (se for o caso)\",\"\")","v":""},{"$f":"IF(AND('Planilha1 (21)'!$C16<>\"\",'Planilha1 (21)'!F16<>\"\"),\"1,2 ou 3,6 ou 8,7 (caso apresente o 6), 10,11(se for o caso), 24(se for o caso),25(se for o caso),26 (se for o caso)\",\"\")","v":""},{"$f":"IF(AND('Planilha1 (21)'!$C16<>\"\",'Planilha1 (21)'!G16<>\"\"),\"1,2 ou 3,5,6 ou 8,7 (caso apresente o 6), 12 e/ou 13 e/ou 14, 24(se for o caso),25(se for o caso),26 (se for o caso)\",\"\")","v":""},{"$f":"IF(AND('Planilha1 (21)'!$C16<>\"\",'Planilha1 (21)'!H16<>\"\"),\"1,2 ou 3,5,6 ou 8,7 (caso apresente o 6), 15, 24(se for o caso),25(se for o caso),26 (se for o caso)\",\"\")","v":""},{"$f":"IF(AND('Planilha1 (21)'!$C16<>\"\",'Planilha1 (21)'!I16<>\"\"),\"1,2 ou 3,5,6 ou 8,7 (caso apresente o 6), 16, 17, 24(se for o caso),25(se for o caso),26 (se for o caso)\",\"\")","v":""},{"$f":"IF(AND('Planilha1 (21)'!$C16<>\"\",'Planilha1 (21)'!J16<>\"\"),\"1,2 ou 3,5,6 ou 8,7 (caso apresente o 6), 18 e/ou 19 e/ou 20, 24(se for o caso),25(se for o caso),26 (se for o caso)\",\"\")","v":""},{"$f":"IF(AND('Planilha1 (21)'!$C16<>\"\",'Planilha1 (21)'!K16<>\"\"),\"21 ou 22,24(se for o caso), 25(se for o caso)\",\"\")","v":""},{"$f":"IF(AND('Planilha1 (21)'!$C16<>\"\",'Planilha1 (21)'!L16<>\"\"),\"23\",\"\")","v":""}]
[null,{"$f":"IF('Planilha1 (21)'!C17<>\"\",'Planilha1 (21)'!C17,\"\")","v":""},{"$f":"IF(AND('Planilha1 (21)'!$C17<>\"\",'Planilha1 (21)'!D$17<>\"\"),\"1,2 ou 3,4,5,6,7, 24(se for o caso),25(se for o caso),26 (se for o caso)\",\"\")","v":""},{"$f":"IF(AND('Planilha1 (21)'!$C17<>\"\",'Planilha1 (21)'!E17<>\"\"),\"1,2 ou 3,5,6 ou 8,7 (caso apresente o 6),9, 24(se for o caso),25(se for o caso),26 (se for o caso)\",\"\")","v":""},{"$f":"IF(AND('Planilha1 (21)'!$C17<>\"\",'Planilha1 (21)'!F17<>\"\"),\"1,2 ou 3,6 ou 8,7 (caso apresente o 6), 10,11(se for o caso), 24(se for o caso),25(se for o caso),26 (se for o caso)\",\"\")","v":""},{"$f":"IF(AND('Planilha1 (21)'!$C17<>\"\",'Planilha1 (21)'!G17<>\"\"),\"1,2 ou 3,5,6 ou 8,7 (caso apresente o 6), 12 e/ou 13 e/ou 14, 24(se for o caso),25(se for o caso),26 (se for o caso)\",\"\")","v":""},{"$f":"IF(AND('Planilha1 (21)'!$C17<>\"\",'Planilha1 (21)'!H17<>\"\"),\"1,2 ou 3,5,6 ou 8,7 (caso apresente o 6), 15, 24(se for o caso),25(se for o caso),26 (se for o caso)\",\"\")","v":""},{"$f":"IF(AND('Planilha1 (21)'!$C17<>\"\",'Planilha1 (21)'!I17<>\"\"),\"1,2 ou 3,5,6 ou 8,7 (caso apresente o 6), 16, 17, 24(se for o caso),25(se for o caso),26 (se for o caso)\",\"\")","v":""},{"$f":"IF(AND('Planilha1 (21)'!$C17<>\"\",'Planilha1 (21)'!J17<>\"\"),\"1,2 ou 3,5,6 ou 8,7 (caso apresente o 6), 18 e/ou 19 e/ou 20, 24(se for o caso),25(se for o caso),26 (se for o caso)\",\"\")","v":""},{"$f":"IF(AND('Planilha1 (21)'!$C17<>\"\",'Planilha1 (21)'!K17<>\"\"),\"21 ou 22,24(se for o caso), 25(se for o caso)\",\"\")","v":""},{"$f":"IF(AND('Planilha1 (21)'!$C17<>\"\",'Planilha1 (21)'!L17<>\"\"),\"23\",\"\")","v":""}]
[null,{"$f":"IF('Planilha1 (21)'!C18<>\"\",'Planilha1 (21)'!C18,\"\")","v":""},{"$f":"IF(AND('Planilha1 (21)'!$C18<>\"\",'Planilha1 (21)'!D$18<>\"\"),\"1,2 ou 3,4,5,6,7, 24(se for o caso),25(se for o caso),26 (se for o caso)\",\"\")","v":""},{"$f":"IF(AND('Planilha1 (21)'!$C18<>\"\",'Planilha1 (21)'!E18<>\"\"),\"1,2 ou 3,5,6 ou 8,7 (caso apresente o 6),9, 24(se for o caso),25(se for o caso),26 (se for o caso)\",\"\")","v":""},{"$f":"IF(AND('Planilha1 (21)'!$C18<>\"\",'Planilha1 (21)'!F18<>\"\"),\"1,2 ou 3,6 ou 8,7 (caso apresente o 6), 10,11(se for o caso), 24(se for o caso),25(se for o caso),26 (se for o caso)\",\"\")","v":""},{"$f":"IF(AND('Planilha1 (21)'!$C18<>\"\",'Planilha1 (21)'!G18<>\"\"),\"1,2 ou 3,5,6 ou 8,7 (caso apresente o 6), 12 e/ou 13 e/ou 14, 24(se for o caso),25(se for o caso),26 (se for o caso)\",\"\")","v":""},{"$f":"IF(AND('Planilha1 (21)'!$C18<>\"\",'Planilha1 (21)'!H18<>\"\"),\"1,2 ou 3,5,6 ou 8,7 (caso apresente o 6), 15, 24(se for o caso),25(se for o caso),26 (se for o caso)\",\"\")","v":""},{"$f":"IF(AND('Planilha1 (21)'!$C18<>\"\",'Planilha1 (21)'!I18<>\"\"),\"1,2 ou 3,5,6 ou 8,7 (caso apresente o 6), 16, 17, 24(se for o caso),25(se for o caso),26 (se for o caso)\",\"\")","v":""},{"$f":"IF(AND('Planilha1 (21)'!$C18<>\"\",'Planilha1 (21)'!J18<>\"\"),\"1,2 ou 3,5,6 ou 8,7 (caso apresente o 6), 18 e/ou 19 e/ou 20, 24(se for o caso),25(se for o caso),26 (se for o caso)\",\"\")","v":""},{"$f":"IF(AND('Planilha1 (21)'!$C18<>\"\",'Planilha1 (21)'!K18<>\"\"),\"21 ou 22,24(se for o caso), 25(se for o caso)\",\"\")","v":""},{"$f":"IF(AND('Planilha1 (21)'!$C18<>\"\",'Planilha1 (21)'!L18<>\"\"),\"23\",\"\")","v":""}]
[null,{"$f":"IF('Planilha1 (21)'!C19<>\"\",'Planilha1 (21)'!C19,\"\")","v":""},{"$f":"IF(AND('Planilha1 (21)'!$C19<>\"\",'Planilha1 (21)'!D$19<>\"\"),\"1,2 ou 3,4,5,6,7, 24(se for o caso),25(se for o caso),26 (se for o caso)\",\"\")","v":""},{"$f":"IF(AND('Planilha1 (21)'!$C19<>\"\",'Planilha1 (21)'!E19<>\"\"),\"1,2 ou 3,5,6 ou 8,7 (caso apresente o 6),9, 24(se for o caso),25(se for o caso),26 (se for o caso)\",\"\")","v":""},{"$f":"IF(AND('Planilha1 (21)'!$C19<>\"\",'Planilha1 (21)'!F19<>\"\"),\"1,2 ou 3,6 ou 8,7 (caso apresente o 6), 10,11(se for o caso), 24(se for o caso),25(se for o caso),26 (se for o caso)\",\"\")","v":""},{"$f":"IF(AND('Planilha1 (21)'!$C19<>\"\",'Planilha1 (21)'!G19<>\"\"),\"1,2 ou 3,5,6 ou 8,7 (caso apresente o 6), 12 e/ou 13 e/ou 14, 24(se for o caso),25(se for o caso),26 (se for o caso)\",\"\")","v":""},{"$f":"IF(AND('Planilha1 (21)'!$C19<>\"\",'Planilha1 (21)'!H19<>\"\"),\"1,2 ou 3,5,6 ou 8,7 (caso apresente o 6), 15, 24(se for o caso),25(se for o caso),26 (se for o caso)\",\"\")","v":""},{"$f":"IF(AND('Planilha1 (21)'!$C19<>\"\",'Planilha1 (21)'!I19<>\"\"),\"1,2 ou 3,5,6 ou 8,7 (caso apresente o 6), 16, 17, 24(se for o caso),25(se for o caso),26 (se for o caso)\",\"\")","v":""},{"$f":"IF(AND('Planilha1 (21)'!$C19<>\"\",'Planilha1 (21)'!J19<>\"\"),\"1,2 ou 3,5,6 ou 8,7 (caso apresente o 6), 18 e/ou 19 e/ou 20, 24(se for o caso),25(se for o caso),26 (se for o caso)\",\"\")","v":""},{"$f":"IF(AND('Planilha1 (21)'!$C19<>\"\",'Planilha1 (21)'!K19<>\"\"),\"21 ou 22,24(se for o caso), 25(se for o caso)\",\"\")","v":""},{"$f":"IF(AND('Planilha1 (21)'!$C19<>\"\",'Planilha1 (21)'!L19<>\"\"),\"23\",\"\")","v":""}]
[null,{"$f":"IF('Planilha1 (21)'!C20<>\"\",'Planilha1 (21)'!C20,\"\")","v":""},{"$f":"IF(AND('Planilha1 (21)'!$C20<>\"\",'Planilha1 (21)'!D$20<>\"\"),\"1,2 ou 3,4,5,6,7, 24(se for o caso),25(se for o caso),26 (se for o caso)\",\"\")","v":""},{"$f":"IF(AND('Planilha1 (21)'!$C20<>\"\",'Planilha1 (21)'!E20<>\"\"),\"1,2 ou 3,5,6 ou 8,7 (caso apresente o 6),9, 24(se for o caso),25(se for o caso),26 (se for o caso)\",\"\")","v":""},{"$f":"IF(AND('Planilha1 (21)'!$C20<>\"\",'Planilha1 (21)'!F20<>\"\"),\"1,2 ou 3,6 ou 8,7 (caso apresente o 6), 10,11(se for o caso), 24(se for o caso),25(se for o caso),26 (se for o caso)\",\"\")","v":""},{"$f":"IF(AND('Planilha1 (21)'!$C20<>\"\",'Planilha1 (21)'!G20<>\"\"),\"1,2 ou 3,5,6 ou 8,7 (caso apresente o 6), 12 e/ou 13 e/ou 14, 24(se for o caso),25(se for o caso),26 (se for o caso)\",\"\")","v":""},{"$f":"IF(AND('Planilha1 (21)'!$C20<>\"\",'Planilha1 (21)'!H20<>\"\"),\"1,2 ou 3,5,6 ou 8,7 (caso apresente o 6), 15, 24(se for o caso),25(se for o caso),26 (se for o caso)\",\"\")","v":""},{"$f":"IF(AND('Planilha1 (21)'!$C20<>\"\",'Planilha1 (21)'!I20<>\"\"),\"1,2 ou 3,5,6 ou 8,7 (caso apresente o 6), 16, 17, 24(se for o caso),25(se for o caso),26 (se for o caso)\",\"\")","v":""},{"$f":"IF(AND('Planilha1 (21)'!$C20<>\"\",'Planilha1 (21)'!J20<>\"\"),\"1,2 ou 3,5,6 ou 8,7 (caso apresente o 6), 18 e/ou 19 e/ou 20, 24(se for o caso),25(se for o caso),26 (se for o caso)\",\"\")","v":""},{"$f":"IF(AND('Planilha1 (21)'!$C20<>\"\",'Planilha1 (21)'!K20<>\"\"),\"21 ou 22,24(se for o caso), 25(se for o caso)\",\"\")","v":""},{"$f":"IF(AND('Planilha1 (21)'!$C20<>\"\",'Planilha1 (21)'!L20<>\"\"),\"23\",\"\")","v":""}]
[null,{"$f":"IF('Planilha1 (21)'!C21<>\"\",'Planilha1 (21)'!C21,\"\")","v":""},{"$f":"IF(AND('Planilha1 (21)'!$C21<>\"\",'Planilha1 (21)'!D$21<>\"\"),\"1,2 ou 3,4,5,6,7, 24(se for o caso),25(se for o caso),26 (se for o caso)\",\"\")","v":""},{"$f":"IF(AND('Planilha1 (21)'!$C21<>\"\",'Planilha1 (21)'!E21<>\"\"),\"1,2 ou 3,5,6 ou 8,7 (caso apresente o 6),9, 24(se for o caso),25(se for o caso),26 (se for o caso)\",\"\")","v":""},{"$f":"IF(AND('Planilha1 (21)'!$C21<>\"\",'Planilha1 (21)'!F21<>\"\"),\"1,2 ou 3,6 ou 8,7 (caso apresente o 6), 10,11(se for o caso), 24(se for o caso),25(se for o caso),26 (se for o caso)\",\"\")","v":""},{"$f":"IF(AND('Planilha1 (21)'!$C21<>\"\",'Planilha1 (21)'!G21<>\"\"),\"1,2 ou 3,5,6 ou 8,7 (caso apresente o 6), 12 e/ou 13 e/ou 14, 24(se for o caso),25(se for o caso),26 (se for o caso)\",\"\")","v":""},{"$f":"IF(AND('Planilha1 (21)'!$C21<>\"\",'Planilha1 (21)'!H21<>\"\"),\"1,2 ou 3,5,6 ou 8,7 (caso apresente o 6), 15, 24(se for o caso),25(se for o caso),26 (se for o caso)\",\"\")","v":""},{"$f":"IF(AND('Planilha1 (21)'!$C21<>\"\",'Planilha1 (21)'!I21<>\"\"),\"1,2 ou 3,5,6 ou 8,7 (caso apresente o 6), 16, 17, 24(se for o caso),25(se for o caso),26 (se for o caso)\",\"\")","v":""},{"$f":"IF(AND('Planilha1 (21)'!$C21<>\"\",'Planilha1 (21)'!J21<>\"\"),\"1,2 ou 3,5,6 ou 8,7 (caso apresente o 6), 18 e/ou 19 e/ou 20, 24(se for o caso),25(se for o caso),26 (se for o caso)\",\"\")","v":""},{"$f":"IF(AND('Planilha1 (21)'!$C21<>\"\",'Planilha1 (21)'!K21<>\"\"),\"21 ou 22,24(se for o caso), 25(se for o caso)\",\"\")","v":""},{"$f":"IF(AND('Planilha1 (21)'!$C21<>\"\",'Planilha1 (21)'!L21<>\"\"),\"23\",\"\")","v":""}]
[null,{"$f":"IF('Planilha1 (21)'!C22<>\"\",'Planilha1 (21)'!C22,\"\")","v":""},{"$f":"IF(AND('Planilha1 (21)'!$C22<>\"\",'Planilha1 (21)'!D$22<>\"\"),\"1,2 ou 3,4,5,6,7, 24(se for o caso),25(se for o caso),26 (se for o caso)\",\"\")","v":""},{"$f":"IF(AND('Planilha1 (21)'!$C22<>\"\",'Planilha1 (21)'!E22<>\"\"),\"1,2 ou 3,5,6 ou 8,7 (caso apresente o 6),9, 24(se for o caso),25(se for o caso),26 (se for o caso)\",\"\")","v":""},{"$f":"IF(AND('Planilha1 (21)'!$C22<>\"\",'Planilha1 (21)'!F22<>\"\"),\"1,2 ou 3,6 ou 8,7 (caso apresente o 6), 10,11(se for o caso), 24(se for o caso),25(se for o caso),26 (se for o caso)\",\"\")","v":""},{"$f":"IF(AND('Planilha1 (21)'!$C22<>\"\",'Planilha1 (21)'!G22<>\"\"),\"1,2 ou 3,5,6 ou 8,7 (caso apresente o 6), 12 e/ou 13 e/ou 14, 24(se for o caso),25(se for o caso),26 (se for o caso)\",\"\")","v":""},{"$f":"IF(AND('Planilha1 (21)'!$C22<>\"\",'Planilha1 (21)'!H22<>\"\"),\"1,2 ou 3,5,6 ou 8,7 (caso apresente o 6), 15, 24(se for o caso),25(se for o caso),26 (se for o caso)\",\"\")","v":""},{"$f":"IF(AND('Planilha1 (21)'!$C22<>\"\",'Planilha1 (21)'!I22<>\"\"),\"1,2 ou 3,5,6 ou 8,7 (caso apresente o 6), 16, 17, 24(se for o caso),25(se for o caso),26 (se for o caso)\",\"\")","v":""},{"$f":"IF(AND('Planilha1 (21)'!$C22<>\"\",'Planilha1 (21)'!J22<>\"\"),\"1,2 ou 3,5,6 ou 8,7 (caso apresente o 6), 18 e/ou 19 e/ou 20, 24(se for o caso),25(se for o caso),26 (se for o caso)\",\"\")","v":""},{"$f":"IF(AND('Planilha1 (21)'!$C22<>\"\",'Planilha1 (21)'!K22<>\"\"),\"21 ou 22,24(se for o caso), 25(se for o caso)\",\"\")","v":""},{"$f":"IF(AND('Planilha1 (21)'!$C22<>\"\",'Planilha1 (21)'!L22<>\"\"),\"23\",\"\")","v":""}]

{"sheet":"Planilha2","index":25,"n_rows":22,"n_cols":3,"rows_kept":22,"cut":false,"hidden":false,"merged":[[0,3,0,6]]}
[]
[null,"PDF","VERIFIQUE A LISTA DE DOCUMENTOS NO EDITAL (ANEXO III QUADRO II)"]
[]
[null,"NÃO ESQUEÇA DA DOCUMENTAÇÃO DOS ITENS 1, 2  (nos Editais Moradia, Residência e Curumim-Cunhantã tbm a 3) DO ANEXO III e do ANEXO II (Se for o caso)"]
[null,"NOME                       DOCUMENTOS/NÚMERO "]
[null,""]
[null,""]
[null,""]
[null,""]
[null,""]
[null,""]
[null,""]
[null,""]
[null,""]
[null,""]
[null,""]
[null,""]
[null,""]
[null,""]
[null,""]
[null,""]
[null,""]